BEGIN:VCALENDAR
VERSION:2.0
PRODID:-//BUHS Boosters - ECPv6.15.20//NONSGML v1.0//EN
CALSCALE:GREGORIAN
METHOD:PUBLISH
X-ORIGINAL-URL:https://buhsboosters.org
X-WR-CALDESC:Events for BUHS Boosters
REFRESH-INTERVAL;VALUE=DURATION:PT1H
X-Robots-Tag:noindex
X-PUBLISHED-TTL:PT1H
BEGIN:VTIMEZONE
TZID:America/New_York
BEGIN:DAYLIGHT
TZOFFSETFROM:-0500
TZOFFSETTO:-0400
TZNAME:EDT
DTSTART:20220313T070000
END:DAYLIGHT
BEGIN:STANDARD
TZOFFSETFROM:-0400
TZOFFSETTO:-0500
TZNAME:EST
DTSTART:20221106T060000
END:STANDARD
BEGIN:DAYLIGHT
TZOFFSETFROM:-0500
TZOFFSETTO:-0400
TZNAME:EDT
DTSTART:20230312T070000
END:DAYLIGHT
BEGIN:STANDARD
TZOFFSETFROM:-0400
TZOFFSETTO:-0500
TZNAME:EST
DTSTART:20231105T060000
END:STANDARD
BEGIN:DAYLIGHT
TZOFFSETFROM:-0500
TZOFFSETTO:-0400
TZNAME:EDT
DTSTART:20240310T070000
END:DAYLIGHT
BEGIN:STANDARD
TZOFFSETFROM:-0400
TZOFFSETTO:-0500
TZNAME:EST
DTSTART:20241103T060000
END:STANDARD
END:VTIMEZONE
BEGIN:VEVENT
DTSTART;TZID=America/New_York:20230508T164500
DTEND;TZID=America/New_York:20230508T184500
DTSTAMP:20260425T105834
CREATED:20230410T232154Z
LAST-MODIFIED:20230411T200023Z
UID:10000093-1683564300-1683571500@buhsboosters.org
SUMMARY:@Brattleboro VS Bellows Falls
DESCRIPTION:GAME | GIRLS VARSITY TENNIS | Home For more details visit https://47005.digitalsports.com/file/events/details.php?sid=10476&eid=6794687
URL:https://buhsboosters.org/events/brattleboro-vs-bellows-falls-2/
LOCATION:BUHS Courts\, 131 Fairground Rd\, Brattleboro\, VT\, 05301\, United States
CATEGORIES:Girls Varsity Tennis
END:VEVENT
BEGIN:VEVENT
DTSTART;TZID=America/New_York:20230509T163000
DTEND;TZID=America/New_York:20230509T174500
DTSTAMP:20260425T105834
CREATED:20230410T230455Z
LAST-MODIFIED:20230411T200023Z
UID:10000056-1683649800-1683654300@buhsboosters.org
SUMMARY:@Brattleboro VS Lyndon Institute
DESCRIPTION:GAME | GIRLS VARSITY LACROSSE | Home For more details visit https://47005.digitalsports.com/file/events/details.php?sid=10476&eid=6846028
URL:https://buhsboosters.org/events/brattleboro-vs-lyndon-institute-2/
LOCATION:Natowich Field\, 131 Fairground Rd\, Brattleboro\, VT\, 05301
CATEGORIES:Girls Varsity Lacrosse
END:VEVENT
BEGIN:VEVENT
DTSTART;TZID=America/New_York:20230509T180000
DTEND;TZID=America/New_York:20230509T193000
DTSTAMP:20260425T105834
CREATED:20230410T225313Z
LAST-MODIFIED:20230411T200024Z
UID:10000042-1683655200-1683660600@buhsboosters.org
SUMMARY:@Brattleboro VS Lyndon Institute
DESCRIPTION:GAME | BOYS VARSITY LACROSSE | Home For more details visit https://47005.digitalsports.com/file/events/details.php?sid=10476&eid=6846027
URL:https://buhsboosters.org/events/brattleboro-vs-lyndon-institute/
LOCATION:Natowich Field\, 131 Fairground Rd\, Brattleboro\, VT\, 05301
CATEGORIES:Boys Varsity Lacrosse
END:VEVENT
BEGIN:VEVENT
DTSTART;TZID=America/New_York:20230511T164500
DTEND;TZID=America/New_York:20230511T184500
DTSTAMP:20260425T105834
CREATED:20230410T231812Z
LAST-MODIFIED:20230411T200023Z
UID:10000084-1683823500-1683830700@buhsboosters.org
SUMMARY:@Brattleboro VS Burr & Burton
DESCRIPTION:GAME | BOYS VARSITY TENNIS | Home For more details visit https://47005.digitalsports.com/file/events/details.php?sid=10476&eid=6794734
URL:https://buhsboosters.org/events/brattleboro-vs-burr-burton-5/
LOCATION:BUHS Courts\, 131 Fairground Rd\, Brattleboro\, VT\, 05301\, United States
CATEGORIES:Boys Varsity Tennis
END:VEVENT
BEGIN:VEVENT
DTSTART;TZID=America/New_York:20230511T170000
DTEND;TZID=America/New_York:20230511T190000
DTSTAMP:20260425T105834
CREATED:20230410T224648Z
LAST-MODIFIED:20230411T200024Z
UID:10000026-1683824400-1683831600@buhsboosters.org
SUMMARY:@Brattleboro VS Hartford
DESCRIPTION:GAME | GIRLS VARSITY SOFTBALL | Home For more details visit https://47005.digitalsports.com/file/events/details.php?sid=10476&eid=6797930
URL:https://buhsboosters.org/events/brattleboro-vs-hartford/
LOCATION:Sawyer Field\, 45 Career Cir\, Brattleboro\, VT\, 05301\, United States
CATEGORIES:Girls Varsity Softball
END:VEVENT
BEGIN:VEVENT
DTSTART;TZID=America/New_York:20230511T190000
DTEND;TZID=America/New_York:20230511T202900
DTSTAMP:20260425T105834
CREATED:20230410T230455Z
LAST-MODIFIED:20230411T200023Z
UID:10000057-1683831600-1683836940@buhsboosters.org
SUMMARY:@Brattleboro VS Mt. Anthony
DESCRIPTION:GAME | GIRLS VARSITY LACROSSE | Home For more details visit https://47005.digitalsports.com/file/events/details.php?sid=10476&eid=6797615
URL:https://buhsboosters.org/events/brattleboro-vs-mt-anthony-4/
LOCATION:Natowich Field\, 131 Fairground Rd\, Brattleboro\, VT\, 05301
CATEGORIES:Girls Varsity Lacrosse
END:VEVENT
BEGIN:VEVENT
DTSTART;TZID=America/New_York:20230513T110000
DTEND;TZID=America/New_York:20230513T122900
DTSTAMP:20260425T105834
CREATED:20230410T225313Z
LAST-MODIFIED:20230411T200024Z
UID:10000044-1683975600-1683980940@buhsboosters.org
SUMMARY:@Brattleboro VS Woodstock
DESCRIPTION:GAME | BOYS VARSITY LACROSSE | Home For more details visit https://47005.digitalsports.com/file/events/details.php?sid=10476&eid=6797539
URL:https://buhsboosters.org/events/brattleboro-vs-woodstock/
LOCATION:Natowich Field\, 131 Fairground Rd\, Brattleboro\, VT\, 05301
CATEGORIES:Boys Varsity Lacrosse
END:VEVENT
BEGIN:VEVENT
DTSTART;TZID=America/New_York:20230513T110000
DTEND;TZID=America/New_York:20230513T123000
DTSTAMP:20260425T105834
CREATED:20230412T111500Z
LAST-MODIFIED:20230412T111702Z
UID:10000147-1683975600-1683981000@buhsboosters.org
SUMMARY:@Brattleboro VS Mill River
DESCRIPTION:GAME | Boys and Girls VARSITY Ultimate Frisbee | Home For more details visit https://47005.digitalsports.com/file/events/details.php?sid=10476&eid=6794811
URL:https://buhsboosters.org/events/brattleboro-vs-mill-river/
LOCATION:Natowich Field\, 131 Fairground Rd\, Brattleboro\, VT\, 05301
CATEGORIES:Coed Varsity Ultimate Frisbee
END:VEVENT
BEGIN:VEVENT
DTSTART;TZID=America/New_York:20230513T110000
DTEND;TZID=America/New_York:20230513T125900
DTSTAMP:20260425T105834
CREATED:20230410T224005Z
LAST-MODIFIED:20230411T200024Z
UID:10000012-1683975600-1683982740@buhsboosters.org
SUMMARY:@Brattleboro VS Fair Haven
DESCRIPTION:GAME | BOYS JUNIOR VARSITY BASEBALL | Home For more details visit https://47005.digitalsports.com/file/events/details.php?sid=10476&eid=6837043
URL:https://buhsboosters.org/events/brattleboro-vs-fair-haven/
LOCATION:Tenney Field\, Fairground Rd\, Brattleboro\, VT\, 05301\, United States
CATEGORIES:BUHS Boys Varsity Baseball
END:VEVENT
BEGIN:VEVENT
DTSTART;TZID=America/New_York:20230513T110000
DTEND;TZID=America/New_York:20230513T130000
DTSTAMP:20260425T105834
CREATED:20230410T232155Z
LAST-MODIFIED:20230411T200023Z
UID:10000096-1683975600-1683982800@buhsboosters.org
SUMMARY:@Brattleboro VS Rutland
DESCRIPTION:GAME | GIRLS VARSITY TENNIS | Home For more details visit https://47005.digitalsports.com/file/events/details.php?sid=10476&eid=6794695
URL:https://buhsboosters.org/events/brattleboro-vs-rutland-6/
LOCATION:BUHS Courts\, 131 Fairground Rd\, Brattleboro\, VT\, 05301\, United States
CATEGORIES:Girls Varsity Tennis
END:VEVENT
END:VCALENDAR