BEGIN:VCALENDAR
VERSION:2.0
PRODID:-//BUHS Boosters - ECPv6.15.20//NONSGML v1.0//EN
CALSCALE:GREGORIAN
METHOD:PUBLISH
X-ORIGINAL-URL:https://buhsboosters.org
X-WR-CALDESC:Events for BUHS Boosters
REFRESH-INTERVAL;VALUE=DURATION:PT1H
X-Robots-Tag:noindex
X-PUBLISHED-TTL:PT1H
BEGIN:VTIMEZONE
TZID:America/New_York
BEGIN:DAYLIGHT
TZOFFSETFROM:-0500
TZOFFSETTO:-0400
TZNAME:EDT
DTSTART:20250309T070000
END:DAYLIGHT
BEGIN:STANDARD
TZOFFSETFROM:-0400
TZOFFSETTO:-0500
TZNAME:EST
DTSTART:20251102T060000
END:STANDARD
BEGIN:DAYLIGHT
TZOFFSETFROM:-0500
TZOFFSETTO:-0400
TZNAME:EDT
DTSTART:20260308T070000
END:DAYLIGHT
BEGIN:STANDARD
TZOFFSETFROM:-0400
TZOFFSETTO:-0500
TZNAME:EST
DTSTART:20261101T060000
END:STANDARD
BEGIN:DAYLIGHT
TZOFFSETFROM:-0500
TZOFFSETTO:-0400
TZNAME:EDT
DTSTART:20270314T070000
END:DAYLIGHT
BEGIN:STANDARD
TZOFFSETFROM:-0400
TZOFFSETTO:-0500
TZNAME:EST
DTSTART:20271107T060000
END:STANDARD
END:VTIMEZONE
BEGIN:VEVENT
DTSTART;TZID=America/New_York:20260425T110000
DTEND;TZID=America/New_York:20260425T123000
DTSTAMP:20260419T084911
CREATED:20260314T095412Z
LAST-MODIFIED:20260419T095413Z
UID:10000970-1777114800-1777120200@buhsboosters.org
SUMMARY:Girls Varsity Lacrosse - Girls @ Hartford HS
DESCRIPTION:Sport: Lacrosse – GirlsLevel: Girls VarsityTeam: Brattleboro UHSSite: Hartford HSSubsite: Hartford High School
URL:https://buhsboosters.org/events/girls-varsity-lacrosse-girls-hartford-hs/
LOCATION:37 Highland Ave\, White River Junction VT  05001-1797
CATEGORIES:Girls Varsity Lacrosse
END:VEVENT
BEGIN:VEVENT
DTSTART;TZID=America/New_York:20260427T163000
DTEND;TZID=America/New_York:20260427T190000
DTSTAMP:20260419T084911
CREATED:20260313T231435Z
LAST-MODIFIED:20260419T111456Z
UID:10000922-1777307400-1777316400@buhsboosters.org
SUMMARY:Girls Varsity Tennis vs Burr And Burton Academy
DESCRIPTION:Sport: TennisLevel: Girls VarsityTeam: Brattleboro UHSSite: Brattleboro Union High SchoolSubsite: Tennis Courts
URL:https://buhsboosters.org/events/girls-varsity-tennis-vs-burr-and-burton-academy/
LOCATION:131 Fairground Road\, Brattleboro VT  05301
CATEGORIES:Girls Varsity Tennis
END:VEVENT
BEGIN:VEVENT
DTSTART;TZID=America/New_York:20260428T160000
DTEND;TZID=America/New_York:20260428T170000
DTSTAMP:20260419T084911
CREATED:20251022T215417Z
LAST-MODIFIED:20260419T095413Z
UID:10000841-1777392000-1777395600@buhsboosters.org
SUMMARY:Varsity Women's Lacrosse @ Burr And Burton Academy
DESCRIPTION:Sport: Women’s LacrosseLevel: VarsityTeam: Brattleboro UHSSite: Burr And Burton AcademySubsite: Taylor Field
URL:https://buhsboosters.org/events/varsity-womens-lacrosse-burr-and-burton-academy/
LOCATION:57 Seminary Ave\, Manchester VT  05254
CATEGORIES:Girls Varsity Lacrosse
END:VEVENT
BEGIN:VEVENT
DTSTART;TZID=America/New_York:20260428T160000
DTEND;TZID=America/New_York:20260428T173000
DTSTAMP:20260419T084911
CREATED:20260314T095621Z
LAST-MODIFIED:20260419T095621Z
UID:10000979-1777392000-1777397400@buhsboosters.org
SUMMARY:Varsity Boys Lacrosse @ Rutland HS
DESCRIPTION:Sport: Boys LacrosseLevel: VarsityTeam: Brattleboro UHSSite: Rutland HSSubsite: Alumni Field
URL:https://buhsboosters.org/events/varsity-boys-lacrosse-rutland-hs-2/
LOCATION:22 Stratton Road\, Rutland Vermont  05701
CATEGORIES:Boys Varsity Lacrosse
END:VEVENT
BEGIN:VEVENT
DTSTART;TZID=America/New_York:20260428T161500
DTEND;TZID=America/New_York:20260428T181500
DTSTAMP:20260419T084911
CREATED:20260313T232719Z
LAST-MODIFIED:20260419T122719Z
UID:10000945-1777392900-1777400100@buhsboosters.org
SUMMARY:Boys Varsity Ultimate vs Long Trail School
DESCRIPTION:Sport: UltimateLevel: Boys VarsityTeam: Brattleboro UHSSite: Brattleboro Union High SchoolSubsite: Natowich Field
URL:https://buhsboosters.org/events/boys-varsity-ultimate-vs-long-trail-school/
LOCATION:131 Fairground Road\, Brattleboro VT  05301
CATEGORIES:Coed Varsity Ultimate Frisbee
END:VEVENT
BEGIN:VEVENT
DTSTART;TZID=America/New_York:20260428T163000
DTEND;TZID=America/New_York:20260428T183000
DTSTAMP:20260419T084911
CREATED:20260326T215340Z
LAST-MODIFIED:20260419T095342Z
UID:10001005-1777393800-1777401000@buhsboosters.org
SUMMARY:Boys Varsity Tennis vs Woodstock High School
DESCRIPTION:Sport: TennisLevel: Boys VarsityTeam: Brattleboro UHSSite: Brattleboro Union High SchoolSubsite: Tennis Courts
URL:https://buhsboosters.org/events/boys-varsity-tennis-vs-woodstock-high-school-2/
LOCATION:131 Fairground Road\, Brattleboro VT  05301
CATEGORIES:Boys Varsity Tennis
END:VEVENT
BEGIN:VEVENT
DTSTART;TZID=America/New_York:20260429T160000
DTEND;TZID=America/New_York:20260429T180000
DTSTAMP:20260419T084911
CREATED:20260323T172431Z
LAST-MODIFIED:20260419T122413Z
UID:10000992-1777478400-1777485600@buhsboosters.org
SUMMARY:Coed Varsity Track & Field - Outdoor vs Mt. Anthony UHS
DESCRIPTION:Sport: Track & Field – OutdoorLevel: Coed VarsityTeam: Brattleboro UHSSite: Brattleboro Union High SchoolSubsite: Freeman Track
URL:https://buhsboosters.org/events/coed-varsity-track-field-outdoor-vs-mt-anthony-uhs/
LOCATION:131 Fairground Road\, Brattleboro VT  05301
CATEGORIES:Track and Field
END:VEVENT
BEGIN:VEVENT
DTSTART;TZID=America/New_York:20260429T160000
DTEND;TZID=America/New_York:20260429T183000
DTSTAMP:20260419T084911
CREATED:20260313T231435Z
LAST-MODIFIED:20260419T111456Z
UID:10000923-1777478400-1777487400@buhsboosters.org
SUMMARY:Girls Varsity Tennis @ Woodstock High School
DESCRIPTION:Sport: TennisLevel: Girls VarsityTeam: Brattleboro UHSSite: Woodstock Athletic ClubSubsite: Tennis Courts
URL:https://buhsboosters.org/events/girls-varsity-tennis-woodstock-high-school/
LOCATION:1489 South St.\, Woodstock VT  05091
CATEGORIES:Girls Varsity Tennis
END:VEVENT
BEGIN:VEVENT
DTSTART;TZID=America/New_York:20260429T163000
DTEND;TZID=America/New_York:20260429T180000
DTSTAMP:20260419T084911
CREATED:20260314T094937Z
LAST-MODIFIED:20260419T094943Z
UID:10000955-1777480200-1777485600@buhsboosters.org
SUMMARY:Varsity Softball @ Burr And Burton Academy
DESCRIPTION:Sport: SoftballLevel: VarsityTeam: Brattleboro UHSSite: Dana Thompson Mem. ParkSubsite: Softball Field
URL:https://buhsboosters.org/events/varsity-softball-burr-and-burton-academy/
LOCATION:340 Rec Park Rd\, Manchester Ctr. Vermont  05255
CATEGORIES:Girls Varsity Softball
END:VEVENT
BEGIN:VEVENT
DTSTART;TZID=America/New_York:20260429T163000
DTEND;TZID=America/New_York:20260429T183000
DTSTAMP:20260419T084911
CREATED:20260313T232634Z
LAST-MODIFIED:20260419T122601Z
UID:10000934-1777480200-1777487400@buhsboosters.org
SUMMARY:Varsity Baseball @ Burr And Burton Academy
DESCRIPTION:Sport: BaseballLevel: VarsityTeam: Brattleboro UHSSite: Dana Thompson Mem. ParkSubsite: Baseball Field
URL:https://buhsboosters.org/events/varsity-baseball-burr-and-burton-academy/
LOCATION:340 Rec Park Rd\, Manchester Ctr. Vermont  05255
CATEGORIES:BUHS Boys Varsity Baseball
END:VEVENT
BEGIN:VEVENT
DTSTART;TZID=America/New_York:20260430T153000
DTEND;TZID=America/New_York:20260430T173000
DTSTAMP:20260419T084911
CREATED:20260319T215343Z
LAST-MODIFIED:20260419T095343Z
UID:10000991-1777563000-1777570200@buhsboosters.org
SUMMARY:Boys Varsity Tennis @ Burr And Burton Academy
DESCRIPTION:Sport: TennisLevel: Boys VarsityTeam: Brattleboro UHSSite: Equinox ResortSubsite: Tennis Courts
URL:https://buhsboosters.org/events/boys-varsity-tennis-burr-and-burton-academy-2/
LOCATION:3567 Main St.\, Manchester Village VT  05254
CATEGORIES:Boys Varsity Tennis
END:VEVENT
BEGIN:VEVENT
DTSTART;TZID=America/New_York:20260430T183000
DTEND;TZID=America/New_York:20260430T200000
DTSTAMP:20260419T084911
CREATED:20260314T095621Z
LAST-MODIFIED:20260419T095621Z
UID:10000980-1777573800-1777579200@buhsboosters.org
SUMMARY:Varsity Boys Lacrosse vs Stratton Mtn School
DESCRIPTION:Sport: Boys LacrosseLevel: VarsityTeam: Brattleboro UHSSite: Brattleboro Union High SchoolSubsite: Natowich Field
URL:https://buhsboosters.org/events/varsity-boys-lacrosse-vs-stratton-mtn-school/
LOCATION:131 Fairground Road\, Brattleboro VT  05301
CATEGORIES:Boys Varsity Lacrosse
END:VEVENT
END:VCALENDAR