BEGIN:VCALENDAR
VERSION:2.0
PRODID:-//BUHS Boosters - ECPv6.15.20//NONSGML v1.0//EN
CALSCALE:GREGORIAN
METHOD:PUBLISH
X-WR-CALNAME:BUHS Boosters
X-ORIGINAL-URL:https://buhsboosters.org
X-WR-CALDESC:Events for BUHS Boosters
REFRESH-INTERVAL;VALUE=DURATION:PT1H
X-Robots-Tag:noindex
X-PUBLISHED-TTL:PT1H
BEGIN:VTIMEZONE
TZID:America/New_York
BEGIN:DAYLIGHT
TZOFFSETFROM:-0500
TZOFFSETTO:-0400
TZNAME:EDT
DTSTART:20220313T070000
END:DAYLIGHT
BEGIN:STANDARD
TZOFFSETFROM:-0400
TZOFFSETTO:-0500
TZNAME:EST
DTSTART:20221106T060000
END:STANDARD
BEGIN:DAYLIGHT
TZOFFSETFROM:-0500
TZOFFSETTO:-0400
TZNAME:EDT
DTSTART:20230312T070000
END:DAYLIGHT
BEGIN:STANDARD
TZOFFSETFROM:-0400
TZOFFSETTO:-0500
TZNAME:EST
DTSTART:20231105T060000
END:STANDARD
BEGIN:DAYLIGHT
TZOFFSETFROM:-0500
TZOFFSETTO:-0400
TZNAME:EDT
DTSTART:20240310T070000
END:DAYLIGHT
BEGIN:STANDARD
TZOFFSETFROM:-0400
TZOFFSETTO:-0500
TZNAME:EST
DTSTART:20241103T060000
END:STANDARD
END:VTIMEZONE
BEGIN:VEVENT
DTSTART;TZID=America/New_York:20230413T163000
DTEND;TZID=America/New_York:20230413T174500
DTSTAMP:20260423T013436
CREATED:20230412T111459Z
LAST-MODIFIED:20230412T111702Z
UID:10000141-1681403400-1681407900@buhsboosters.org
SUMMARY:@Brattleboro VS Burr & Burton
DESCRIPTION:GAME | Boys and Girls VARSITY Ultimate Frisbee | Home For more details visit https://47005.digitalsports.com/file/events/details.php?sid=10476&eid=6794788
URL:https://buhsboosters.org/events/brattleboro-vs-burr-burton-7/
LOCATION:Natowich Field\, 131 Fairground Rd\, Brattleboro\, VT\, 05301
CATEGORIES:Coed Varsity Ultimate Frisbee
END:VEVENT
BEGIN:VEVENT
DTSTART;TZID=America/New_York:20230413T173000
DTEND;TZID=America/New_York:20230413T183000
DTSTAMP:20260423T013436
CREATED:20230412T111459Z
LAST-MODIFIED:20230412T111702Z
UID:10000142-1681407000-1681410600@buhsboosters.org
SUMMARY:@Brattleboro VS Burr & Burton
DESCRIPTION:GAME | Boys and Girls VARSITY Ultimate Frisbee | Home For more details visit https://47005.digitalsports.com/file/events/details.php?sid=10476&eid=6847692
URL:https://buhsboosters.org/events/brattleboro-vs-burr-burton-8/
LOCATION:Brattleboro\, 131 Fairground Rd\, Brattleboro\, VT\, 05301\, United States
CATEGORIES:Coed Varsity Ultimate Frisbee
END:VEVENT
BEGIN:VEVENT
DTSTART;TZID=America/New_York:20230415T110000
DTEND;TZID=America/New_York:20230415T124500
DTSTAMP:20260423T013436
CREATED:20230412T111459Z
LAST-MODIFIED:20230412T111702Z
UID:10000143-1681556400-1681562700@buhsboosters.org
SUMMARY:@Brattleboro VS Leland & Gray
DESCRIPTION:GAME | Boys and Girls VARSITY Ultimate Frisbee | Home For more details visit https://47005.digitalsports.com/file/events/details.php?sid=10476&eid=6794817
URL:https://buhsboosters.org/events/brattleboro-vs-leland-gray/
LOCATION:Natowich Field\, 131 Fairground Rd\, Brattleboro\, VT\, 05301
CATEGORIES:Coed Varsity Ultimate Frisbee
END:VEVENT
END:VCALENDAR