BEGIN:VCALENDAR
VERSION:2.0
PRODID:-//BUHS Boosters - ECPv6.15.20//NONSGML v1.0//EN
CALSCALE:GREGORIAN
METHOD:PUBLISH
X-WR-CALNAME:BUHS Boosters
X-ORIGINAL-URL:https://buhsboosters.org
X-WR-CALDESC:Events for BUHS Boosters
REFRESH-INTERVAL;VALUE=DURATION:PT1H
X-Robots-Tag:noindex
X-PUBLISHED-TTL:PT1H
BEGIN:VTIMEZONE
TZID:America/New_York
BEGIN:DAYLIGHT
TZOFFSETFROM:-0500
TZOFFSETTO:-0400
TZNAME:EDT
DTSTART:20220313T070000
END:DAYLIGHT
BEGIN:STANDARD
TZOFFSETFROM:-0400
TZOFFSETTO:-0500
TZNAME:EST
DTSTART:20221106T060000
END:STANDARD
BEGIN:DAYLIGHT
TZOFFSETFROM:-0500
TZOFFSETTO:-0400
TZNAME:EDT
DTSTART:20230312T070000
END:DAYLIGHT
BEGIN:STANDARD
TZOFFSETFROM:-0400
TZOFFSETTO:-0500
TZNAME:EST
DTSTART:20231105T060000
END:STANDARD
BEGIN:DAYLIGHT
TZOFFSETFROM:-0500
TZOFFSETTO:-0400
TZNAME:EDT
DTSTART:20240310T070000
END:DAYLIGHT
BEGIN:STANDARD
TZOFFSETFROM:-0400
TZOFFSETTO:-0500
TZNAME:EST
DTSTART:20241103T060000
END:STANDARD
BEGIN:DAYLIGHT
TZOFFSETFROM:-0500
TZOFFSETTO:-0400
TZNAME:EDT
DTSTART:20250309T070000
END:DAYLIGHT
BEGIN:STANDARD
TZOFFSETFROM:-0400
TZOFFSETTO:-0500
TZNAME:EST
DTSTART:20251102T060000
END:STANDARD
BEGIN:DAYLIGHT
TZOFFSETFROM:-0500
TZOFFSETTO:-0400
TZNAME:EDT
DTSTART:20260308T070000
END:DAYLIGHT
BEGIN:STANDARD
TZOFFSETFROM:-0400
TZOFFSETTO:-0500
TZNAME:EST
DTSTART:20261101T060000
END:STANDARD
BEGIN:DAYLIGHT
TZOFFSETFROM:-0500
TZOFFSETTO:-0400
TZNAME:EDT
DTSTART:20270314T070000
END:DAYLIGHT
BEGIN:STANDARD
TZOFFSETFROM:-0400
TZOFFSETTO:-0500
TZNAME:EST
DTSTART:20271107T060000
END:STANDARD
END:VTIMEZONE
BEGIN:VEVENT
DTSTART;TZID=America/New_York:20230501T163000
DTEND;TZID=America/New_York:20230501T174500
DTSTAMP:20260422T175934
CREATED:20230412T111459Z
LAST-MODIFIED:20230412T111702Z
UID:10000144-1682958600-1682963100@buhsboosters.org
SUMMARY:@Brattleboro VS Sharon Academy
DESCRIPTION:GAME | Boys and Girls VARSITY Ultimate Frisbee | Home For more details visit https://47005.digitalsports.com/file/events/details.php?sid=10476&eid=6833094
URL:https://buhsboosters.org/events/brattleboro-vs-sharon-academy/
LOCATION:Natowich Field\, 131 Fairground Rd\, Brattleboro\, VT\, 05301
CATEGORIES:Coed Varsity Ultimate Frisbee
END:VEVENT
BEGIN:VEVENT
DTSTART;TZID=America/New_York:20230505T163000
DTEND;TZID=America/New_York:20230505T180000
DTSTAMP:20260422T175934
CREATED:20230412T111500Z
LAST-MODIFIED:20230412T111500Z
UID:10000145-1683304200-1683309600@buhsboosters.org
SUMMARY:@Long Trail VS Brattleboro
DESCRIPTION:GAME | Boys and Girls VARSITY Ultimate Frisbee | Away For more details visit https://47005.digitalsports.com/file/events/details.php?sid=10476&eid=6794803
URL:https://buhsboosters.org/events/long-trail-vs-brattleboro/
LOCATION:Long Trail
CATEGORIES:Coed Varsity Ultimate Frisbee
END:VEVENT
BEGIN:VEVENT
DTSTART;TZID=America/New_York:20230509T163000
DTEND;TZID=America/New_York:20230509T180000
DTSTAMP:20260422T175934
CREATED:20230412T111500Z
LAST-MODIFIED:20230412T111500Z
UID:10000146-1683649800-1683655200@buhsboosters.org
SUMMARY:@Burr & Burton VS Brattleboro
DESCRIPTION:GAME | Boys and Girls VARSITY Ultimate Frisbee | Away For more details visit https://47005.digitalsports.com/file/events/details.php?sid=10476&eid=6794806
URL:https://buhsboosters.org/events/burr-burton-vs-brattleboro-7/
LOCATION:Judy McCormick Taylor Field
CATEGORIES:Coed Varsity Ultimate Frisbee
END:VEVENT
BEGIN:VEVENT
DTSTART;TZID=America/New_York:20230513T110000
DTEND;TZID=America/New_York:20230513T123000
DTSTAMP:20260422T175934
CREATED:20230412T111500Z
LAST-MODIFIED:20230412T111702Z
UID:10000147-1683975600-1683981000@buhsboosters.org
SUMMARY:@Brattleboro VS Mill River
DESCRIPTION:GAME | Boys and Girls VARSITY Ultimate Frisbee | Home For more details visit https://47005.digitalsports.com/file/events/details.php?sid=10476&eid=6794811
URL:https://buhsboosters.org/events/brattleboro-vs-mill-river/
LOCATION:Natowich Field\, 131 Fairground Rd\, Brattleboro\, VT\, 05301
CATEGORIES:Coed Varsity Ultimate Frisbee
END:VEVENT
BEGIN:VEVENT
DTSTART;TZID=America/New_York:20230516T163000
DTEND;TZID=America/New_York:20230516T180000
DTSTAMP:20260422T175934
CREATED:20230412T111500Z
LAST-MODIFIED:20230412T111500Z
UID:10000148-1684254600-1684260000@buhsboosters.org
SUMMARY:@Mill River VS Brattleboro
DESCRIPTION:GAME | Boys and Girls VARSITY Ultimate Frisbee | Away For more details visit https://47005.digitalsports.com/file/events/details.php?sid=10476&eid=6794814
URL:https://buhsboosters.org/events/mill-river-vs-brattleboro-2/
LOCATION:Mill River
CATEGORIES:Coed Varsity Ultimate Frisbee
END:VEVENT
BEGIN:VEVENT
DTSTART;TZID=America/New_York:20230519T163000
DTEND;TZID=America/New_York:20230519T180000
DTSTAMP:20260422T175934
CREATED:20230412T111500Z
LAST-MODIFIED:20230412T111500Z
UID:10000149-1684513800-1684519200@buhsboosters.org
SUMMARY:@Leland & Gray VS Brattleboro
DESCRIPTION:GAME | Boys and Girls VARSITY Ultimate Frisbee | Away For more details visit https://47005.digitalsports.com/file/events/details.php?sid=10476&eid=6794793
URL:https://buhsboosters.org/events/leland-gray-vs-brattleboro/
LOCATION:Leland & Gray
CATEGORIES:Coed Varsity Ultimate Frisbee
END:VEVENT
BEGIN:VEVENT
DTSTART;TZID=America/New_York:20230524T163000
DTEND;TZID=America/New_York:20230524T174500
DTSTAMP:20260422T175934
CREATED:20230412T111500Z
LAST-MODIFIED:20230412T111701Z
UID:10000150-1684945800-1684950300@buhsboosters.org
SUMMARY:@Brattleboro VS Long Trail
DESCRIPTION:GAME | Boys and Girls VARSITY Ultimate Frisbee | Home For more details visit https://47005.digitalsports.com/file/events/details.php?sid=10476&eid=6794823
URL:https://buhsboosters.org/events/brattleboro-vs-long-trail/
LOCATION:Natowich Field\, 131 Fairground Rd\, Brattleboro\, VT\, 05301
CATEGORIES:Coed Varsity Ultimate Frisbee
END:VEVENT
BEGIN:VEVENT
DTSTART;TZID=America/New_York:20230526T163000
DTEND;TZID=America/New_York:20230526T180000
DTSTAMP:20260422T175934
CREATED:20230412T111500Z
LAST-MODIFIED:20230412T111500Z
UID:10000151-1685118600-1685124000@buhsboosters.org
SUMMARY:@Sharon Academy VS Brattleboro
DESCRIPTION:GAME | Boys and Girls VARSITY Ultimate Frisbee | Away For more details visit https://47005.digitalsports.com/file/events/details.php?sid=10476&eid=6833104
URL:https://buhsboosters.org/events/sharon-academy-vs-brattleboro/
LOCATION:Sharon Academy
CATEGORIES:Coed Varsity Ultimate Frisbee
END:VEVENT
BEGIN:VEVENT
DTSTART;TZID=America/New_York:20260428T161500
DTEND;TZID=America/New_York:20260428T181500
DTSTAMP:20260422T175934
CREATED:20260313T232719Z
LAST-MODIFIED:20260422T212721Z
UID:10000945-1777392900-1777400100@buhsboosters.org
SUMMARY:Boys Varsity Ultimate vs Long Trail School
DESCRIPTION:Sport: UltimateLevel: Boys VarsityTeam: Brattleboro UHSSite: Brattleboro Union High SchoolSubsite: Natowich Field
URL:https://buhsboosters.org/events/boys-varsity-ultimate-vs-long-trail-school/
LOCATION:131 Fairground Road\, Brattleboro VT  05301
CATEGORIES:Coed Varsity Ultimate Frisbee
END:VEVENT
BEGIN:VEVENT
DTSTART;TZID=America/New_York:20260501T163000
DTEND;TZID=America/New_York:20260501T183000
DTSTAMP:20260422T175934
CREATED:20260313T232719Z
LAST-MODIFIED:20260422T212721Z
UID:10000946-1777653000-1777660200@buhsboosters.org
SUMMARY:Boys Varsity Ultimate @ Mill River UHS
DESCRIPTION:Sport: UltimateLevel: Boys VarsityTeam: Brattleboro UHSSite: Mill River UHSSubsite: Ultimate Field
URL:https://buhsboosters.org/events/boys-varsity-ultimate-mill-river-uhs/
LOCATION:2321 Middle Rd\, North Clarendon Vermont  05759-0006
CATEGORIES:Coed Varsity Ultimate Frisbee
END:VEVENT
BEGIN:VEVENT
DTSTART;TZID=America/New_York:20260508T160000
DTEND;TZID=America/New_York:20260508T180000
DTSTAMP:20260422T175934
CREATED:20260313T232719Z
LAST-MODIFIED:20260422T212721Z
UID:10000947-1778256000-1778263200@buhsboosters.org
SUMMARY:Boys Varsity Ultimate @ Burr And Burton Academy
DESCRIPTION:Sport: UltimateLevel: Boys VarsityTeam: Brattleboro UHSSite: Burr And Burton AcademySubsite: Taylor Field
URL:https://buhsboosters.org/events/boys-varsity-ultimate-burr-and-burton-academy/
LOCATION:57 Seminary Ave\, Manchester VT  05254
CATEGORIES:Coed Varsity Ultimate Frisbee
END:VEVENT
BEGIN:VEVENT
DTSTART;TZID=America/New_York:20260512T161500
DTEND;TZID=America/New_York:20260512T181500
DTSTAMP:20260422T175934
CREATED:20260313T232719Z
LAST-MODIFIED:20260422T212721Z
UID:10000948-1778602500-1778609700@buhsboosters.org
SUMMARY:Boys Varsity Ultimate vs Leland and Gray UHS/MS
DESCRIPTION:Sport: UltimateLevel: Boys VarsityTeam: Brattleboro UHSSite: Brattleboro Union High SchoolSubsite: Natowich Field
URL:https://buhsboosters.org/events/boys-varsity-ultimate-vs-leland-and-gray-uhs-ms/
LOCATION:131 Fairground Road\, Brattleboro VT  05301
CATEGORIES:Coed Varsity Ultimate Frisbee
END:VEVENT
BEGIN:VEVENT
DTSTART;TZID=America/New_York:20260515T160000
DTEND;TZID=America/New_York:20260515T180000
DTSTAMP:20260422T175934
CREATED:20260313T232720Z
LAST-MODIFIED:20260422T212721Z
UID:10000949-1778860800-1778868000@buhsboosters.org
SUMMARY:Boys Varsity Ultimate @ Long Trail School
DESCRIPTION:Sport: UltimateLevel: Boys VarsityTeam: Brattleboro UHSSite: Long Trail SchoolSubsite: Ultimate Field
URL:https://buhsboosters.org/events/boys-varsity-ultimate-long-trail-school/
LOCATION:1045 Kirby Hollow Road\, Dorset VT  05251
CATEGORIES:Coed Varsity Ultimate Frisbee
END:VEVENT
BEGIN:VEVENT
DTSTART;TZID=America/New_York:20260519T180000
DTEND;TZID=America/New_York:20260519T200000
DTSTAMP:20260422T175934
CREATED:20260313T232720Z
LAST-MODIFIED:20260422T212721Z
UID:10000950-1779213600-1779220800@buhsboosters.org
SUMMARY:Boys Varsity Ultimate vs Mill River UHS
DESCRIPTION:Sport: UltimateLevel: Boys VarsityTeam: Brattleboro UHSSite: Brattleboro Union High SchoolSubsite: Natowich Field
URL:https://buhsboosters.org/events/boys-varsity-ultimate-vs-mill-river-uhs/
LOCATION:131 Fairground Road\, Brattleboro VT  05301
CATEGORIES:Coed Varsity Ultimate Frisbee
END:VEVENT
BEGIN:VEVENT
DTSTART;TZID=America/New_York:20260527T163000
DTEND;TZID=America/New_York:20260527T183000
DTSTAMP:20260422T175934
CREATED:20260313T232720Z
LAST-MODIFIED:20260422T212721Z
UID:10000951-1779899400-1779906600@buhsboosters.org
SUMMARY:Boys Varsity Ultimate @ Grace Christian School
DESCRIPTION:Sport: UltimateLevel: Boys VarsityTeam: Brattleboro UHSSite: Willow Park — Lower FieldSubsite: Willow Park — Bennington
URL:https://buhsboosters.org/events/boys-varsity-ultimate-grace-christian-school/
LOCATION:Performance Drive\, Bennington Vermont  05201
CATEGORIES:Coed Varsity Ultimate Frisbee
END:VEVENT
BEGIN:VEVENT
DTSTART;TZID=America/New_York:20260529T161500
DTEND;TZID=America/New_York:20260529T181500
DTSTAMP:20260422T175934
CREATED:20260313T232720Z
LAST-MODIFIED:20260422T212721Z
UID:10000952-1780071300-1780078500@buhsboosters.org
SUMMARY:Boys Varsity Ultimate vs Grace Christian School
DESCRIPTION:Sport: UltimateLevel: Boys VarsityTeam: Brattleboro UHSSite: Brattleboro Union High SchoolSubsite: Natowich Field
URL:https://buhsboosters.org/events/boys-varsity-ultimate-vs-grace-christian-school/
LOCATION:131 Fairground Road\, Brattleboro VT  05301
CATEGORIES:Coed Varsity Ultimate Frisbee
END:VEVENT
END:VCALENDAR