BEGIN:VCALENDAR
VERSION:2.0
PRODID:-//BUHS Boosters - ECPv6.15.20//NONSGML v1.0//EN
CALSCALE:GREGORIAN
METHOD:PUBLISH
X-ORIGINAL-URL:https://buhsboosters.org
X-WR-CALDESC:Events for BUHS Boosters
REFRESH-INTERVAL;VALUE=DURATION:PT1H
X-Robots-Tag:noindex
X-PUBLISHED-TTL:PT1H
BEGIN:VTIMEZONE
TZID:America/New_York
BEGIN:DAYLIGHT
TZOFFSETFROM:-0500
TZOFFSETTO:-0400
TZNAME:EDT
DTSTART:20250309T070000
END:DAYLIGHT
BEGIN:STANDARD
TZOFFSETFROM:-0400
TZOFFSETTO:-0500
TZNAME:EST
DTSTART:20251102T060000
END:STANDARD
BEGIN:DAYLIGHT
TZOFFSETFROM:-0500
TZOFFSETTO:-0400
TZNAME:EDT
DTSTART:20260308T070000
END:DAYLIGHT
BEGIN:STANDARD
TZOFFSETFROM:-0400
TZOFFSETTO:-0500
TZNAME:EST
DTSTART:20261101T060000
END:STANDARD
BEGIN:DAYLIGHT
TZOFFSETFROM:-0500
TZOFFSETTO:-0400
TZNAME:EDT
DTSTART:20270314T070000
END:DAYLIGHT
BEGIN:STANDARD
TZOFFSETFROM:-0400
TZOFFSETTO:-0500
TZNAME:EST
DTSTART:20271107T060000
END:STANDARD
END:VTIMEZONE
BEGIN:VEVENT
DTSTART;TZID=America/New_York:20260509T110000
DTEND;TZID=America/New_York:20260509T123000
DTSTAMP:20260423T083910
CREATED:20260314T094937Z
LAST-MODIFIED:20260423T094937Z
UID:10000958-1778324400-1778329800@buhsboosters.org
SUMMARY:Varsity Softball vs Otter Valley UHS/MS
DESCRIPTION:Sport: SoftballLevel: VarsityTeam: Brattleboro UHSSite: Brattleboro Union High SchoolSubsite: Sawyer Field
URL:https://buhsboosters.org/events/varsity-softball-vs-otter-valley-uhs-ms/
LOCATION:131 Fairground Road\, Brattleboro VT  05301
CATEGORIES:Girls Varsity Softball
END:VEVENT
BEGIN:VEVENT
DTSTART;TZID=America/New_York:20260509T110000
DTEND;TZID=America/New_York:20260509T124500
DTSTAMP:20260423T083910
CREATED:20260325T215636Z
LAST-MODIFIED:20260423T095622Z
UID:10001003-1778324400-1778330700@buhsboosters.org
SUMMARY:Varsity Boys Lacrosse vs Randolph UHS
DESCRIPTION:Sport: Boys LacrosseLevel: VarsityTeam: Brattleboro UHSSite: Brattleboro Union High SchoolSubsite: Natowich Field
URL:https://buhsboosters.org/events/varsity-boys-lacrosse-vs-randolph-uhs/
LOCATION:131 Fairground Road\, Brattleboro VT  05301
CATEGORIES:Boys Varsity Lacrosse
END:VEVENT
BEGIN:VEVENT
DTSTART;TZID=America/New_York:20260509T110000
DTEND;TZID=America/New_York:20260509T130000
DTSTAMP:20260423T083910
CREATED:20260313T232634Z
LAST-MODIFIED:20260423T122606Z
UID:10000937-1778324400-1778331600@buhsboosters.org
SUMMARY:Varsity Baseball vs Otter Valley UHS/MS
DESCRIPTION:Sport: BaseballLevel: VarsityTeam: Brattleboro UHSSite: Brattleboro Union High SchoolSubsite: Tenney Field
URL:https://buhsboosters.org/events/varsity-baseball-vs-otter-valley-uhs-ms/
LOCATION:131 Fairground Road\, Brattleboro VT  05301
CATEGORIES:BUHS Boys Varsity Baseball
END:VEVENT
BEGIN:VEVENT
DTSTART;TZID=America/New_York:20260509T110000
DTEND;TZID=America/New_York:20260509T133000
DTSTAMP:20260423T083910
CREATED:20260325T215401Z
LAST-MODIFIED:20260423T095340Z
UID:10000998-1778324400-1778333400@buhsboosters.org
SUMMARY:Boys Varsity Tennis
DESCRIPTION:Sport: TennisLevel: Boys VarsityTeam: Brattleboro UHSSite: White Mem. ParkSubsite: Tennis Courts
URL:https://buhsboosters.org/events/boys-varsity-tennis/
LOCATION:21 Ave. B\, Rutland Vermont  05701
CATEGORIES:Boys Varsity Tennis
END:VEVENT
BEGIN:VEVENT
DTSTART;TZID=America/New_York:20260509T113000
DTEND;TZID=America/New_York:20260509T133000
DTSTAMP:20260423T083910
CREATED:20260325T215456Z
LAST-MODIFIED:20260423T095420Z
UID:10001001-1778326200-1778333400@buhsboosters.org
SUMMARY:Varsity Lacrosse @ Chicopee Comprehensive High School
DESCRIPTION:Sport: LacrosseLevel: VarsityTeam: Brattleboro UHSSite: Chicopee Comp HSSubsite: Comp Turf
URL:https://buhsboosters.org/events/varsity-lacrosse-chicopee-comprehensive-high-school/
LOCATION:617 Montgomery St\, Chicopee MA  01020
CATEGORIES:Girls Varsity Lacrosse
END:VEVENT
END:VCALENDAR