BEGIN:VCALENDAR
VERSION:2.0
PRODID:-//BUHS Boosters - ECPv6.15.20//NONSGML v1.0//EN
CALSCALE:GREGORIAN
METHOD:PUBLISH
X-ORIGINAL-URL:https://buhsboosters.org
X-WR-CALDESC:Events for BUHS Boosters
REFRESH-INTERVAL;VALUE=DURATION:PT1H
X-Robots-Tag:noindex
X-PUBLISHED-TTL:PT1H
BEGIN:VTIMEZONE
TZID:America/New_York
BEGIN:DAYLIGHT
TZOFFSETFROM:-0500
TZOFFSETTO:-0400
TZNAME:EDT
DTSTART:20220313T070000
END:DAYLIGHT
BEGIN:STANDARD
TZOFFSETFROM:-0400
TZOFFSETTO:-0500
TZNAME:EST
DTSTART:20221106T060000
END:STANDARD
BEGIN:DAYLIGHT
TZOFFSETFROM:-0500
TZOFFSETTO:-0400
TZNAME:EDT
DTSTART:20230312T070000
END:DAYLIGHT
BEGIN:STANDARD
TZOFFSETFROM:-0400
TZOFFSETTO:-0500
TZNAME:EST
DTSTART:20231105T060000
END:STANDARD
BEGIN:DAYLIGHT
TZOFFSETFROM:-0500
TZOFFSETTO:-0400
TZNAME:EDT
DTSTART:20240310T070000
END:DAYLIGHT
BEGIN:STANDARD
TZOFFSETFROM:-0400
TZOFFSETTO:-0500
TZNAME:EST
DTSTART:20241103T060000
END:STANDARD
END:VTIMEZONE
BEGIN:VEVENT
DTSTART;TZID=America/New_York:20230509T150000
DTEND;TZID=America/New_York:20230509T170000
DTSTAMP:20260424T101937
CREATED:20230410T231353Z
LAST-MODIFIED:20230411T001637Z
UID:10000071-1683644400-1683651600@buhsboosters.org
SUMMARY:Brattleboro CVC Qualifier (MRHS)
DESCRIPTION:TOURNAMENT / INVITATIONAL | Boys and Girls VARSITY TRACK AND FIELD | Away For more details visit https://47005.digitalsports.com/file/events/details.php?sid=10476&eid=6846591
URL:https://buhsboosters.org/events/brattleboro-cvc-qualifier-mrhs/
CATEGORIES:Track and Field
END:VEVENT
BEGIN:VEVENT
DTSTART;TZID=America/New_York:20230509T160000
DTEND;TZID=America/New_York:20230509T180000
DTSTAMP:20260424T101937
CREATED:20230410T232155Z
LAST-MODIFIED:20230410T232155Z
UID:10000094-1683648000-1683655200@buhsboosters.org
SUMMARY:@Hartford VS Brattleboro
DESCRIPTION:GAME | GIRLS VARSITY TENNIS | Away For more details visit https://47005.digitalsports.com/file/events/details.php?sid=10476&eid=6794656
URL:https://buhsboosters.org/events/hartford-vs-brattleboro-2/
LOCATION:Maxfield Complex – Tennis
CATEGORIES:Girls Varsity Tennis
END:VEVENT
BEGIN:VEVENT
DTSTART;TZID=America/New_York:20230509T163000
DTEND;TZID=America/New_York:20230509T174500
DTSTAMP:20260424T101937
CREATED:20230410T230455Z
LAST-MODIFIED:20230411T200023Z
UID:10000056-1683649800-1683654300@buhsboosters.org
SUMMARY:@Brattleboro VS Lyndon Institute
DESCRIPTION:GAME | GIRLS VARSITY LACROSSE | Home For more details visit https://47005.digitalsports.com/file/events/details.php?sid=10476&eid=6846028
URL:https://buhsboosters.org/events/brattleboro-vs-lyndon-institute-2/
LOCATION:Natowich Field\, 131 Fairground Rd\, Brattleboro\, VT\, 05301
CATEGORIES:Girls Varsity Lacrosse
END:VEVENT
BEGIN:VEVENT
DTSTART;TZID=America/New_York:20230509T163000
DTEND;TZID=America/New_York:20230509T180000
DTSTAMP:20260424T101937
CREATED:20230412T111500Z
LAST-MODIFIED:20230412T111500Z
UID:10000146-1683649800-1683655200@buhsboosters.org
SUMMARY:@Burr & Burton VS Brattleboro
DESCRIPTION:GAME | Boys and Girls VARSITY Ultimate Frisbee | Away For more details visit https://47005.digitalsports.com/file/events/details.php?sid=10476&eid=6794806
URL:https://buhsboosters.org/events/burr-burton-vs-brattleboro-7/
LOCATION:Judy McCormick Taylor Field
CATEGORIES:Coed Varsity Ultimate Frisbee
END:VEVENT
BEGIN:VEVENT
DTSTART;TZID=America/New_York:20230509T180000
DTEND;TZID=America/New_York:20230509T193000
DTSTAMP:20260424T101937
CREATED:20230410T225313Z
LAST-MODIFIED:20230411T200024Z
UID:10000042-1683655200-1683660600@buhsboosters.org
SUMMARY:@Brattleboro VS Lyndon Institute
DESCRIPTION:GAME | BOYS VARSITY LACROSSE | Home For more details visit https://47005.digitalsports.com/file/events/details.php?sid=10476&eid=6846027
URL:https://buhsboosters.org/events/brattleboro-vs-lyndon-institute/
LOCATION:Natowich Field\, 131 Fairground Rd\, Brattleboro\, VT\, 05301
CATEGORIES:Boys Varsity Lacrosse
END:VEVENT
END:VCALENDAR